

BEGIN:VCALENDAR
VERSION:2.0
PRODID:-//Build Studios - ECPv6.15.12.2//NONSGML v1.0//EN
CALSCALE:GREGORIAN
METHOD:PUBLISH
X-WR-CALNAME:Build Studios
X-ORIGINAL-URL:https://www.buildstudios.co.uk
X-WR-CALDESC:Events for Build Studios
REFRESH-INTERVAL;VALUE=DURATION:PT1H
X-Robots-Tag:noindex
X-PUBLISHED-TTL:PT1H
BEGIN:VTIMEZONE
TZID:Europe/London
BEGIN:DAYLIGHT
TZOFFSETFROM:+0000
TZOFFSETTO:+0100
TZNAME:BST
DTSTART:20180325T010000
END:DAYLIGHT
BEGIN:STANDARD
TZOFFSETFROM:+0100
TZOFFSETTO:+0000
TZNAME:GMT
DTSTART:20181028T010000
END:STANDARD
BEGIN:DAYLIGHT
TZOFFSETFROM:+0000
TZOFFSETTO:+0100
TZNAME:BST
DTSTART:20190331T010000
END:DAYLIGHT
BEGIN:STANDARD
TZOFFSETFROM:+0100
TZOFFSETTO:+0000
TZNAME:GMT
DTSTART:20191027T010000
END:STANDARD
BEGIN:DAYLIGHT
TZOFFSETFROM:+0000
TZOFFSETTO:+0100
TZNAME:BST
DTSTART:20200329T010000
END:DAYLIGHT
BEGIN:STANDARD
TZOFFSETFROM:+0100
TZOFFSETTO:+0000
TZNAME:GMT
DTSTART:20201025T010000
END:STANDARD
END:VTIMEZONE
BEGIN:VEVENT
DTSTART;TZID=Europe/London:20191114T183000
DTEND;TZID=Europe/London:20191114T203000
DTSTAMP:20260419T193826
CREATED:20191002T193929Z
LAST-MODIFIED:20191002T193929Z
UID:1510-1573756200-1573763400@www.buildstudios.co.uk
SUMMARY:BUILT by Us - SHAPE
DESCRIPTION:SHAPE is an innovative programme which connects founders with volunteer mentors\, drawn from a variety of backgrounds\, experience and expertise and matched with those wishing to found businesses and or businesses owners. We provide 6-months of mentoring along with practical bi-monthly workshops designed to nurture diverse founders who are under-represented within the sector and in the long-term support the development of a more inclusive and representative built environment. \n\n\n\n\n\n\n\n\n14th Nov 2019\n\n\nShape Intro/match \n\n\n\nBuild Studios \n\n\n\n\n12th Mar 2020 \n\n\nShape – Start-Up Stories \n\n\nBuild Studios \n\n\n\n\n14th May 2020 \n\n\nShape – Start-Up Stories \n\n\nBuild Studios \n\n\n\n\n25th June 2020 \n\n\nShape Graduation \n\n\nBuild Studios \n\n\n\n\n  \n 
URL:https://www.buildstudios.co.uk/event/shape-2020-06-25-2/
LOCATION:Build Studios\, 203 Westminster Bridge Road\,\, London\, SE1 7FR\, United Kingdom
ORGANIZER;CN="Built by Us":MAILTO:danna@builtbyus.org.uk
END:VEVENT
BEGIN:VEVENT
DTSTART;TZID=Europe/London:20191114T183000
DTEND;TZID=Europe/London:20191114T203000
DTSTAMP:20260419T193826
CREATED:20191002T193929Z
LAST-MODIFIED:20191002T193929Z
UID:2178-1573756200-1573763400@www.buildstudios.co.uk
SUMMARY:BUILT by Us - SHAPE
DESCRIPTION:SHAPE is an innovative programme which connects founders with volunteer mentors\, drawn from a variety of backgrounds\, experience and expertise and matched with those wishing to found businesses and or businesses owners. We provide 6-months of mentoring along with practical bi-monthly workshops designed to nurture diverse founders who are under-represented within the sector and in the long-term support the development of a more inclusive and representative built environment. \n\n\n\n\n14th Nov 2019 \n\n\nShape Intro/match \n\n\nBuild Studios \n\n\n\n\n30th Jan 2020 \n\n\nShape – Start-Up Stories \n\n\nBuild Studios \n\n\n\n\n12th Mar 2020 \n\n\nShape – Start-Up Stories \n\n\nBuild Studios \n\n\n\n\n14th May 2020 \n\n\nShape – Start-Up Stories \n\n\nBuild Studios \n\n\n\n\n25th June 2020 \n\n\nShape Graduation \n\n\nBuild Studios
URL:https://www.buildstudios.co.uk/event/shape-2020-06-25-3/
LOCATION:Build Studios\, 203 Westminster Bridge Road\,\, London\, SE1 7FR\, United Kingdom
ORGANIZER;CN="Built by Us":MAILTO:danna@builtbyus.org.uk
END:VEVENT
BEGIN:VEVENT
DTSTART;TZID=Europe/London:20191031T183000
DTEND;TZID=Europe/London:20191031T203000
DTSTAMP:20260419T193826
CREATED:20191002T173012Z
LAST-MODIFIED:20191007T001438Z
UID:1195-1572546600-1572553800@www.buildstudios.co.uk
SUMMARY:Built by Us - FLUID Mentor Training
DESCRIPTION:The programme has been developed to address the under-representation within management and leadership structures in the built environment sector\, with a particular but not exclusive focus on: \n\n\nWomen \n\n\nPeople from black and ethnic minority background \n\n\nPeople with disabilities \n\n\nLesbian\, Gay\, Bisexual and Transgender (LGBT) \n\n\nThose from disadvantaged socio-economic backgrounds
URL:https://www.buildstudios.co.uk/event/fluid-mentor-training/
LOCATION:Build Studios\, 203 Westminster Bridge Road\,\, London\, SE1 7FR\, United Kingdom
ORGANIZER;CN="Built by Us":MAILTO:danna@builtbyus.org.uk
END:VEVENT
BEGIN:VEVENT
DTSTART;TZID=Europe/London:20191031T183000
DTEND;TZID=Europe/London:20191031T203000
DTSTAMP:20260419T193826
CREATED:20191002T173012Z
LAST-MODIFIED:20191002T173012Z
UID:1509-1572546600-1572553800@www.buildstudios.co.uk
SUMMARY:Built by Us - FLUID Mentor Training
DESCRIPTION:The programme has been developed to address the under-representation within management and leadership structures in the built environment sector\, with a particular but not exclusive focus on: \n\n\nWomen \n\n\nPeople from black and ethnic minority background \n\n\nPeople with disabilities \n\n\nLesbian\, Gay\, Bisexual and Transgender (LGBT) \n\n\nThose from disadvantaged socio-economic backgrounds
URL:https://www.buildstudios.co.uk/event/fluid-mentor-training-2/
LOCATION:Build Studios\, 203 Westminster Bridge Road\,\, London\, SE1 7FR\, United Kingdom
ORGANIZER;CN="Built by Us":MAILTO:danna@builtbyus.org.uk
END:VEVENT
BEGIN:VEVENT
DTSTART;TZID=Europe/London:20191031T183000
DTEND;TZID=Europe/London:20191031T203000
DTSTAMP:20260419T193826
CREATED:20191002T173012Z
LAST-MODIFIED:20191002T173012Z
UID:2177-1572546600-1572553800@www.buildstudios.co.uk
SUMMARY:Built by Us - FLUID Mentor Training
DESCRIPTION:The programme has been developed to address the under-representation within management and leadership structures in the built environment sector\, with a particular but not exclusive focus on: \n\n\nWomen \n\n\nPeople from black and ethnic minority background \n\n\nPeople with disabilities \n\n\nLesbian\, Gay\, Bisexual and Transgender (LGBT) \n\n\nThose from disadvantaged socio-economic backgrounds
URL:https://www.buildstudios.co.uk/event/fluid-mentor-training-3/
LOCATION:Build Studios\, 203 Westminster Bridge Road\,\, London\, SE1 7FR\, United Kingdom
ORGANIZER;CN="Built by Us":MAILTO:danna@builtbyus.org.uk
END:VEVENT
BEGIN:VEVENT
DTSTART;TZID=Europe/London:20191031T183000
DTEND;TZID=Europe/London:20191031T203000
DTSTAMP:20260419T193826
CREATED:20191002T173012Z
LAST-MODIFIED:20191002T173012Z
UID:2185-1572546600-1572553800@www.buildstudios.co.uk
SUMMARY:Built by Us - FLUID Mentor Training
DESCRIPTION:The programme has been developed to address the under-representation within management and leadership structures in the built environment sector\, with a particular but not exclusive focus on: \n\n\nWomen \n\n\nPeople from black and ethnic minority background \n\n\nPeople with disabilities \n\n\nLesbian\, Gay\, Bisexual and Transgender (LGBT) \n\n\nThose from disadvantaged socio-economic backgrounds
URL:https://www.buildstudios.co.uk/event/fluid-mentor-training-2-2/
LOCATION:Build Studios\, 203 Westminster Bridge Road\,\, London\, SE1 7FR\, United Kingdom
ORGANIZER;CN="Built by Us":MAILTO:danna@builtbyus.org.uk
END:VEVENT
BEGIN:VEVENT
DTSTART;TZID=Europe/London:20191030T183000
DTEND;TZID=Europe/London:20191030T203000
DTSTAMP:20260419T193826
CREATED:20190925T185943Z
LAST-MODIFIED:20190925T185943Z
UID:2184-1572460200-1572467400@www.buildstudios.co.uk
SUMMARY:Museum of Architecture - Associates Club
DESCRIPTION:The Associates’ Club is a membership training programme by the Museum of Architecture\, designed specifically for the essential role of the Associate- or mid-level architects.\nThe programme provides leadership and business skills training for the Associates and also a platform to share experiences and insights.
URL:https://www.buildstudios.co.uk/event/museum-of-architecture-associates-club-2-2/
LOCATION:Build Studios\, 203 Westminster Bridge Road\,\, London\, SE1 7FR\, United Kingdom
END:VEVENT
BEGIN:VEVENT
DTSTART;TZID=Europe/London:20191030T183000
DTEND;TZID=Europe/London:20191030T203000
DTSTAMP:20260419T193826
CREATED:20190925T185943Z
LAST-MODIFIED:20191014T154723Z
UID:1181-1572460200-1572467400@www.buildstudios.co.uk
SUMMARY:Museum of Architecture - Associates Club
DESCRIPTION:The Associates’ Club is a membership training programme by the Museum of Architecture\, designed specifically for the essential role of the Associate- or mid-level architects.\nThe programme provides leadership and business skills training for the Associates and also a platform to share experiences and insights.
URL:https://www.buildstudios.co.uk/event/museum-of-architecture-associates-club/
LOCATION:Build Studios\, 203 Westminster Bridge Road\,\, London\, SE1 7FR\, United Kingdom
END:VEVENT
BEGIN:VEVENT
DTSTART;TZID=Europe/London:20191030T183000
DTEND;TZID=Europe/London:20191030T203000
DTSTAMP:20260419T193826
CREATED:20190925T185943Z
LAST-MODIFIED:20190925T185943Z
UID:1508-1572460200-1572467400@www.buildstudios.co.uk
SUMMARY:Museum of Architecture - Associates Club
DESCRIPTION:The Associates’ Club is a membership training programme by the Museum of Architecture\, designed specifically for the essential role of the Associate- or mid-level architects.\nThe programme provides leadership and business skills training for the Associates and also a platform to share experiences and insights.
URL:https://www.buildstudios.co.uk/event/museum-of-architecture-associates-club-2/
LOCATION:Build Studios\, 203 Westminster Bridge Road\,\, London\, SE1 7FR\, United Kingdom
END:VEVENT
BEGIN:VEVENT
DTSTART;TZID=Europe/London:20191030T183000
DTEND;TZID=Europe/London:20191030T203000
DTSTAMP:20260419T193826
CREATED:20190925T185943Z
LAST-MODIFIED:20190925T185943Z
UID:2176-1572460200-1572467400@www.buildstudios.co.uk
SUMMARY:Museum of Architecture - Associates Club
DESCRIPTION:The Associates’ Club is a membership training programme by the Museum of Architecture\, designed specifically for the essential role of the Associate- or mid-level architects.\nThe programme provides leadership and business skills training for the Associates and also a platform to share experiences and insights.
URL:https://www.buildstudios.co.uk/event/museum-of-architecture-associates-club-3/
LOCATION:Build Studios\, 203 Westminster Bridge Road\,\, London\, SE1 7FR\, United Kingdom
END:VEVENT
BEGIN:VEVENT
DTSTART;TZID=Europe/London:20191023T183000
DTEND;TZID=Europe/London:20191023T203000
DTSTAMP:20260419T193826
CREATED:20191014T155626Z
LAST-MODIFIED:20191014T155626Z
UID:1272-1571855400-1571862600@www.buildstudios.co.uk
SUMMARY:Museum of Architecture - Business Academy
DESCRIPTION:In this session\, we’ll look at the fundamentals of social media marketing and how to use accounts to best convey your practice. This workshop will teach you how to understand\, plan\, and manage your social media channels effectively. We’ll also look at how social media ties into your broader marketing efforts and how these can work simultaneously and harmoniously.
URL:https://www.buildstudios.co.uk/event/museum-of-architecture-business-academy-3/
LOCATION:Build Studios\, 203 Westminster Bridge Road\,\, London\, SE1 7FR\, United Kingdom
END:VEVENT
BEGIN:VEVENT
DTSTART;TZID=Europe/London:20191023T183000
DTEND;TZID=Europe/London:20191023T203000
DTSTAMP:20260419T193826
CREATED:20191014T155626Z
LAST-MODIFIED:20191014T155626Z
UID:1514-1571855400-1571862600@www.buildstudios.co.uk
SUMMARY:Museum of Architecture - Business Academy
DESCRIPTION:In this session\, we’ll look at the fundamentals of social media marketing and how to use accounts to best convey your practice. This workshop will teach you how to understand\, plan\, and manage your social media channels effectively. We’ll also look at how social media ties into your broader marketing efforts and how these can work simultaneously and harmoniously.
URL:https://www.buildstudios.co.uk/event/museum-of-architecture-business-academy-3-2/
LOCATION:Build Studios\, 203 Westminster Bridge Road\,\, London\, SE1 7FR\, United Kingdom
END:VEVENT
BEGIN:VEVENT
DTSTART;TZID=Europe/London:20191023T183000
DTEND;TZID=Europe/London:20191023T203000
DTSTAMP:20260419T193826
CREATED:20191014T155626Z
LAST-MODIFIED:20191014T155626Z
UID:2179-1571855400-1571862600@www.buildstudios.co.uk
SUMMARY:Museum of Architecture - Business Academy
DESCRIPTION:In this session\, we’ll look at the fundamentals of social media marketing and how to use accounts to best convey your practice. This workshop will teach you how to understand\, plan\, and manage your social media channels effectively. We’ll also look at how social media ties into your broader marketing efforts and how these can work simultaneously and harmoniously.
URL:https://www.buildstudios.co.uk/event/museum-of-architecture-business-academy-3-3/
LOCATION:Build Studios\, 203 Westminster Bridge Road\,\, London\, SE1 7FR\, United Kingdom
END:VEVENT
BEGIN:VEVENT
DTSTART;TZID=Europe/London:20191023T183000
DTEND;TZID=Europe/London:20191023T203000
DTSTAMP:20260419T193826
CREATED:20191014T155626Z
LAST-MODIFIED:20191014T155626Z
UID:2187-1571855400-1571862600@www.buildstudios.co.uk
SUMMARY:Museum of Architecture - Business Academy
DESCRIPTION:In this session\, we’ll look at the fundamentals of social media marketing and how to use accounts to best convey your practice. This workshop will teach you how to understand\, plan\, and manage your social media channels effectively. We’ll also look at how social media ties into your broader marketing efforts and how these can work simultaneously and harmoniously.
URL:https://www.buildstudios.co.uk/event/museum-of-architecture-business-academy-3-2-2/
LOCATION:Build Studios\, 203 Westminster Bridge Road\,\, London\, SE1 7FR\, United Kingdom
END:VEVENT
BEGIN:VEVENT
DTSTART;TZID=Europe/London:20191009T183000
DTEND;TZID=Europe/London:20191009T203000
DTSTAMP:20260419T193826
CREATED:20190925T184551Z
LAST-MODIFIED:20190925T190200Z
UID:1178-1570645800-1570653000@www.buildstudios.co.uk
SUMMARY:Museum of Architecture - Business Academy
DESCRIPTION:Financial Management for Your Practice and Projects \nSoftware is now widely used to manage financial information for architectural practices of all sizes\, such as invoicing and payments.\nBut do you know what key reports and measures are essential for achieving your financial goals for your practice? \nIn this workshop\, learn how to easily create a budget in Xero and monitor your overall company performance on a monthly basis. Examine how to produce Project Profitability Reports\, and understand some of the recommended Key Performance Indicators used for monitoring your business. \n 
URL:https://www.buildstudios.co.uk/event/museum-of-architecture-business-academy-2/
LOCATION:Build Studios\, 203 Westminster Bridge Road\,\, London\, SE1 7FR\, United Kingdom
END:VEVENT
BEGIN:VEVENT
DTSTART;TZID=Europe/London:20191009T183000
DTEND;TZID=Europe/London:20191009T203000
DTSTAMP:20260419T193826
CREATED:20190925T184551Z
LAST-MODIFIED:20190925T184551Z
UID:1507-1570645800-1570653000@www.buildstudios.co.uk
SUMMARY:Museum of Architecture - Business Academy
DESCRIPTION:Financial Management for Your Practice and Projects \nSoftware is now widely used to manage financial information for architectural practices of all sizes\, such as invoicing and payments.\nBut do you know what key reports and measures are essential for achieving your financial goals for your practice? \nIn this workshop\, learn how to easily create a budget in Xero and monitor your overall company performance on a monthly basis. Examine how to produce Project Profitability Reports\, and understand some of the recommended Key Performance Indicators used for monitoring your business. \n 
URL:https://www.buildstudios.co.uk/event/museum-of-architecture-business-academy-2-2/
LOCATION:Build Studios\, 203 Westminster Bridge Road\,\, London\, SE1 7FR\, United Kingdom
END:VEVENT
BEGIN:VEVENT
DTSTART;TZID=Europe/London:20191009T183000
DTEND;TZID=Europe/London:20191009T203000
DTSTAMP:20260419T193826
CREATED:20190925T184551Z
LAST-MODIFIED:20190925T184551Z
UID:2175-1570645800-1570653000@www.buildstudios.co.uk
SUMMARY:Museum of Architecture - Business Academy
DESCRIPTION:Financial Management for Your Practice and Projects \nSoftware is now widely used to manage financial information for architectural practices of all sizes\, such as invoicing and payments.\nBut do you know what key reports and measures are essential for achieving your financial goals for your practice? \nIn this workshop\, learn how to easily create a budget in Xero and monitor your overall company performance on a monthly basis. Examine how to produce Project Profitability Reports\, and understand some of the recommended Key Performance Indicators used for monitoring your business. \n 
URL:https://www.buildstudios.co.uk/event/museum-of-architecture-business-academy-2-3/
LOCATION:Build Studios\, 203 Westminster Bridge Road\,\, London\, SE1 7FR\, United Kingdom
END:VEVENT
BEGIN:VEVENT
DTSTART;TZID=Europe/London:20191009T183000
DTEND;TZID=Europe/London:20191009T203000
DTSTAMP:20260419T193826
CREATED:20190925T184551Z
LAST-MODIFIED:20190925T184551Z
UID:2183-1570645800-1570653000@www.buildstudios.co.uk
SUMMARY:Museum of Architecture - Business Academy
DESCRIPTION:Financial Management for Your Practice and Projects \nSoftware is now widely used to manage financial information for architectural practices of all sizes\, such as invoicing and payments.\nBut do you know what key reports and measures are essential for achieving your financial goals for your practice? \nIn this workshop\, learn how to easily create a budget in Xero and monitor your overall company performance on a monthly basis. Examine how to produce Project Profitability Reports\, and understand some of the recommended Key Performance Indicators used for monitoring your business. \n 
URL:https://www.buildstudios.co.uk/event/museum-of-architecture-business-academy-2-2-2/
LOCATION:Build Studios\, 203 Westminster Bridge Road\,\, London\, SE1 7FR\, United Kingdom
END:VEVENT
BEGIN:VEVENT
DTSTART;TZID=Europe/London:20191002T183000
DTEND;TZID=Europe/London:20191002T203000
DTSTAMP:20260419T193826
CREATED:20190925T183512Z
LAST-MODIFIED:20190925T183512Z
UID:2182-1570041000-1570048200@www.buildstudios.co.uk
SUMMARY:Museum of Architecture - Business Academy
DESCRIPTION:Branding Essentials: Defining the Mission and Vision for Your Practice: \nA strong brand story for your architectural practice is critical for standing out in a crowded industry. How do you ensure that your brand is unique and compelling\, and doesn’t get lumped in with your competitors? It starts with these seemingly simple but essential tools: the mission and vision statements.
URL:https://www.buildstudios.co.uk/event/museum-of-architecture-business-academy-4-2/
LOCATION:Build Studios\, 203 Westminster Bridge Road\,\, London\, SE1 7FR\, United Kingdom
END:VEVENT
BEGIN:VEVENT
DTSTART;TZID=Europe/London:20191002T183000
DTEND;TZID=Europe/London:20191002T203000
DTSTAMP:20260419T193826
CREATED:20190925T183512Z
LAST-MODIFIED:20190925T190320Z
UID:1173-1570041000-1570048200@www.buildstudios.co.uk
SUMMARY:Museum of Architecture - Business Academy
DESCRIPTION:Branding Essentials: Defining the Mission and Vision for Your Practice: \nA strong brand story for your architectural practice is critical for standing out in a crowded industry. How do you ensure that your brand is unique and compelling\, and doesn’t get lumped in with your competitors? It starts with these seemingly simple but essential tools: the mission and vision statements.
URL:https://www.buildstudios.co.uk/event/museum-of-architecture-business-academy/
LOCATION:Build Studios\, 203 Westminster Bridge Road\,\, London\, SE1 7FR\, United Kingdom
END:VEVENT
BEGIN:VEVENT
DTSTART;TZID=Europe/London:20191002T183000
DTEND;TZID=Europe/London:20191002T203000
DTSTAMP:20260419T193826
CREATED:20190925T183512Z
LAST-MODIFIED:20190925T183512Z
UID:1506-1570041000-1570048200@www.buildstudios.co.uk
SUMMARY:Museum of Architecture - Business Academy
DESCRIPTION:Branding Essentials: Defining the Mission and Vision for Your Practice: \nA strong brand story for your architectural practice is critical for standing out in a crowded industry. How do you ensure that your brand is unique and compelling\, and doesn’t get lumped in with your competitors? It starts with these seemingly simple but essential tools: the mission and vision statements.
URL:https://www.buildstudios.co.uk/event/museum-of-architecture-business-academy-4/
LOCATION:Build Studios\, 203 Westminster Bridge Road\,\, London\, SE1 7FR\, United Kingdom
END:VEVENT
BEGIN:VEVENT
DTSTART;TZID=Europe/London:20191002T183000
DTEND;TZID=Europe/London:20191002T203000
DTSTAMP:20260419T193826
CREATED:20190925T183512Z
LAST-MODIFIED:20190925T183512Z
UID:2174-1570041000-1570048200@www.buildstudios.co.uk
SUMMARY:Museum of Architecture - Business Academy
DESCRIPTION:Branding Essentials: Defining the Mission and Vision for Your Practice: \nA strong brand story for your architectural practice is critical for standing out in a crowded industry. How do you ensure that your brand is unique and compelling\, and doesn’t get lumped in with your competitors? It starts with these seemingly simple but essential tools: the mission and vision statements.
URL:https://www.buildstudios.co.uk/event/museum-of-architecture-business-academy-5/
LOCATION:Build Studios\, 203 Westminster Bridge Road\,\, London\, SE1 7FR\, United Kingdom
END:VEVENT
BEGIN:VEVENT
DTSTART;TZID=Europe/London:20190509T183000
DTEND;TZID=Europe/London:20190509T203000
DTSTAMP:20260419T193826
CREATED:20190508T110213Z
LAST-MODIFIED:20190508T110213Z
UID:1097-1557426600-1557433800@www.buildstudios.co.uk
SUMMARY:Museum of Architecture: Writing Skills for Architects
DESCRIPTION:Build Studios is proud to host the Museum of Architecture for a hands-on workshop teaching architects how to write engagingly about their work.  Attendees will explore how to produce effective web copy\, awards submissions\, emails and blog posts that will attract attention and build their reputation. \nThis is the second of two sessions. \nTickets and more information are available at the Museum of Architecture website.
URL:https://www.buildstudios.co.uk/event/museum-of-architecture-writing-skills-for-architects/
LOCATION:Build Studios\, 203 Westminster Bridge Road\,\, London\, SE1 7FR\, United Kingdom
ATTACH;FMTTYPE=image/png:https://www.buildstudios.co.uk/build5/wp-content/uploads/2019/05/moa-writingforarchitects_1.png
END:VEVENT
BEGIN:VEVENT
DTSTART;TZID=Europe/London:20190509T183000
DTEND;TZID=Europe/London:20190509T203000
DTSTAMP:20260419T193826
CREATED:20190508T110213Z
LAST-MODIFIED:20190508T110213Z
UID:1505-1557426600-1557433800@www.buildstudios.co.uk
SUMMARY:Museum of Architecture: Writing Skills for Architects
DESCRIPTION:Build Studios is proud to host the Museum of Architecture for a hands-on workshop teaching architects how to write engagingly about their work.  Attendees will explore how to produce effective web copy\, awards submissions\, emails and blog posts that will attract attention and build their reputation. \nThis is the second of two sessions. \nTickets and more information are available at the Museum of Architecture website.
URL:https://www.buildstudios.co.uk/event/museum-of-architecture-writing-skills-for-architects-2/
LOCATION:Build Studios\, 203 Westminster Bridge Road\,\, London\, SE1 7FR\, United Kingdom
ATTACH;FMTTYPE=image/png:https://www.buildstudios.co.uk/build5/wp-content/uploads/2019/05/moa-writingforarchitects_1.png
END:VEVENT
BEGIN:VEVENT
DTSTART;TZID=Europe/London:20190509T183000
DTEND;TZID=Europe/London:20190509T203000
DTSTAMP:20260419T193826
CREATED:20190508T110213Z
LAST-MODIFIED:20190508T110213Z
UID:2173-1557426600-1557433800@www.buildstudios.co.uk
SUMMARY:Museum of Architecture: Writing Skills for Architects
DESCRIPTION:Build Studios is proud to host the Museum of Architecture for a hands-on workshop teaching architects how to write engagingly about their work.  Attendees will explore how to produce effective web copy\, awards submissions\, emails and blog posts that will attract attention and build their reputation. \nThis is the second of two sessions. \nTickets and more information are available at the Museum of Architecture website.
URL:https://www.buildstudios.co.uk/event/museum-of-architecture-writing-skills-for-architects-3/
LOCATION:Build Studios\, 203 Westminster Bridge Road\,\, London\, SE1 7FR\, United Kingdom
ATTACH;FMTTYPE=image/png:https://www.buildstudios.co.uk/build5/wp-content/uploads/2019/05/moa-writingforarchitects_1.png
END:VEVENT
BEGIN:VEVENT
DTSTART;TZID=Europe/London:20190509T183000
DTEND;TZID=Europe/London:20190509T203000
DTSTAMP:20260419T193826
CREATED:20190508T110213Z
LAST-MODIFIED:20190508T110213Z
UID:2181-1557426600-1557433800@www.buildstudios.co.uk
SUMMARY:Museum of Architecture: Writing Skills for Architects
DESCRIPTION:Build Studios is proud to host the Museum of Architecture for a hands-on workshop teaching architects how to write engagingly about their work.  Attendees will explore how to produce effective web copy\, awards submissions\, emails and blog posts that will attract attention and build their reputation. \nThis is the second of two sessions. \nTickets and more information are available at the Museum of Architecture website.
URL:https://www.buildstudios.co.uk/event/museum-of-architecture-writing-skills-for-architects-2-2/
LOCATION:Build Studios\, 203 Westminster Bridge Road\,\, London\, SE1 7FR\, United Kingdom
ATTACH;FMTTYPE=image/png:https://www.buildstudios.co.uk/build5/wp-content/uploads/2019/05/moa-writingforarchitects_1.png
END:VEVENT
BEGIN:VEVENT
DTSTART;TZID=Europe/London:20190425T183000
DTEND;TZID=Europe/London:20190425T203000
DTSTAMP:20260419T193826
CREATED:20190307T153457Z
LAST-MODIFIED:20190307T153457Z
UID:2180-1556217000-1556224200@www.buildstudios.co.uk
SUMMARY:Shape Event for Built Environment Entrepreneurs
DESCRIPTION:Build Studios is proud to host a Built by Us event for budding and start-up entrepreneurs in the built environment sector. \nEstablished businesses will share their own start-up journeys and tips for success. \nFor further details and to book tickets\, please visit the Built by Us website.
URL:https://www.buildstudios.co.uk/event/shape-event-for-built-environment-entrepreneurs-2-2/
LOCATION:Build Studios\, 203 Westminster Bridge Road\,\, London\, SE1 7FR\, United Kingdom
END:VEVENT
BEGIN:VEVENT
DTSTART;TZID=Europe/London:20190425T183000
DTEND;TZID=Europe/London:20190425T203000
DTSTAMP:20260419T193826
CREATED:20190307T153457Z
LAST-MODIFIED:20190307T153457Z
UID:1077-1556217000-1556224200@www.buildstudios.co.uk
SUMMARY:Shape Event for Built Environment Entrepreneurs
DESCRIPTION:Build Studios is proud to host a Built by Us event for budding and start-up entrepreneurs in the built environment sector. \nEstablished businesses will share their own start-up journeys and tips for success. \nFor further details and to book tickets\, please visit the Built by Us website.
URL:https://www.buildstudios.co.uk/event/shape-event-for-built-environment-entrepreneurs/
LOCATION:Build Studios\, 203 Westminster Bridge Road\,\, London\, SE1 7FR\, United Kingdom
END:VEVENT
BEGIN:VEVENT
DTSTART;TZID=Europe/London:20190425T183000
DTEND;TZID=Europe/London:20190425T203000
DTSTAMP:20260419T193826
CREATED:20190307T153457Z
LAST-MODIFIED:20190307T153457Z
UID:1504-1556217000-1556224200@www.buildstudios.co.uk
SUMMARY:Shape Event for Built Environment Entrepreneurs
DESCRIPTION:Build Studios is proud to host a Built by Us event for budding and start-up entrepreneurs in the built environment sector. \nEstablished businesses will share their own start-up journeys and tips for success. \nFor further details and to book tickets\, please visit the Built by Us website.
URL:https://www.buildstudios.co.uk/event/shape-event-for-built-environment-entrepreneurs-2/
LOCATION:Build Studios\, 203 Westminster Bridge Road\,\, London\, SE1 7FR\, United Kingdom
END:VEVENT
BEGIN:VEVENT
DTSTART;TZID=Europe/London:20190425T183000
DTEND;TZID=Europe/London:20190425T203000
DTSTAMP:20260419T193826
CREATED:20190307T153457Z
LAST-MODIFIED:20190307T153457Z
UID:2162-1556217000-1556224200@www.buildstudios.co.uk
SUMMARY:Shape Event for Built Environment Entrepreneurs
DESCRIPTION:Build Studios is proud to host a Built by Us event for budding and start-up entrepreneurs in the built environment sector. \nEstablished businesses will share their own start-up journeys and tips for success. \nFor further details and to book tickets\, please visit the Built by Us website.
URL:https://www.buildstudios.co.uk/event/shape-event-for-built-environment-entrepreneurs-3/
LOCATION:Build Studios\, 203 Westminster Bridge Road\,\, London\, SE1 7FR\, United Kingdom
END:VEVENT
END:VCALENDAR