

BEGIN:VCALENDAR
VERSION:2.0
PRODID:-//Build Studios - ECPv6.15.12.2//NONSGML v1.0//EN
CALSCALE:GREGORIAN
METHOD:PUBLISH
X-WR-CALNAME:Build Studios
X-ORIGINAL-URL:https://www.buildstudios.co.uk
X-WR-CALDESC:Events for Build Studios
REFRESH-INTERVAL;VALUE=DURATION:PT1H
X-Robots-Tag:noindex
X-PUBLISHED-TTL:PT1H
BEGIN:VTIMEZONE
TZID:Europe/London
BEGIN:DAYLIGHT
TZOFFSETFROM:+0000
TZOFFSETTO:+0100
TZNAME:BST
DTSTART:20190331T010000
END:DAYLIGHT
BEGIN:STANDARD
TZOFFSETFROM:+0100
TZOFFSETTO:+0000
TZNAME:GMT
DTSTART:20191027T010000
END:STANDARD
BEGIN:DAYLIGHT
TZOFFSETFROM:+0000
TZOFFSETTO:+0100
TZNAME:BST
DTSTART:20200329T010000
END:DAYLIGHT
BEGIN:STANDARD
TZOFFSETFROM:+0100
TZOFFSETTO:+0000
TZNAME:GMT
DTSTART:20201025T010000
END:STANDARD
BEGIN:DAYLIGHT
TZOFFSETFROM:+0000
TZOFFSETTO:+0100
TZNAME:BST
DTSTART:20210328T010000
END:DAYLIGHT
BEGIN:STANDARD
TZOFFSETFROM:+0100
TZOFFSETTO:+0000
TZNAME:GMT
DTSTART:20211031T010000
END:STANDARD
END:VTIMEZONE
BEGIN:VEVENT
DTSTART;TZID=Europe/London:20200212T183000
DTEND;TZID=Europe/London:20200212T203000
DTSTAMP:20260421T125938
CREATED:20200126T222346Z
LAST-MODIFIED:20200126T222346Z
UID:1516-1581532200-1581539400@www.buildstudios.co.uk
SUMMARY:MoA Associates series
DESCRIPTION:About the MoA Associates Leadership Series \nThe programme provides leadership and business skills training for the Associates and also a platform to share experiences and insights. It is an educational opportunity\, including a training programme designed to connect Associates with knowledge and resources to better understand their own leadership style\, and to improve their leadership capabilities in the role of the Associate.
URL:https://www.buildstudios.co.uk/event/moa-associates-series/
LOCATION:Build Studios\, 203 Westminster Bridge Road\,\, London\, SE1 7FR\, United Kingdom
CATEGORIES:Members Event
END:VEVENT
BEGIN:VEVENT
DTSTART;TZID=Europe/London:20200212T183000
DTEND;TZID=Europe/London:20200212T203000
DTSTAMP:20260421T125938
CREATED:20200126T222346Z
LAST-MODIFIED:20200126T222346Z
UID:2189-1581532200-1581539400@www.buildstudios.co.uk
SUMMARY:MoA Associates series
DESCRIPTION:About the MoA Associates Leadership Series \nThe programme provides leadership and business skills training for the Associates and also a platform to share experiences and insights. It is an educational opportunity\, including a training programme designed to connect Associates with knowledge and resources to better understand their own leadership style\, and to improve their leadership capabilities in the role of the Associate.
URL:https://www.buildstudios.co.uk/event/moa-associates-series-2/
LOCATION:Build Studios\, 203 Westminster Bridge Road\,\, London\, SE1 7FR\, United Kingdom
CATEGORIES:Members Event
END:VEVENT
BEGIN:VEVENT
DTSTART;TZID=Europe/London:20200206T183000
DTEND;TZID=Europe/London:20200206T203000
DTSTAMP:20260421T125938
CREATED:20200126T223727Z
LAST-MODIFIED:20200126T223727Z
UID:1517-1581013800-1581021000@www.buildstudios.co.uk
SUMMARY:Built By Us - SHAPE networking launch
DESCRIPTION:The SHAPE Programme has been developed to provide support at those important first steps in setting up a business with focus on people who are underrepresented in the construction sector.
URL:https://www.buildstudios.co.uk/event/built-by-us/
LOCATION:Build Studios\, 203 Westminster Bridge Road\,\, London\, SE1 7FR\, United Kingdom
CATEGORIES:Members Event
ORGANIZER;CN="Built by Us":MAILTO:danna@builtbyus.org.uk
END:VEVENT
BEGIN:VEVENT
DTSTART;TZID=Europe/London:20200206T183000
DTEND;TZID=Europe/London:20200206T203000
DTSTAMP:20260421T125938
CREATED:20200126T223727Z
LAST-MODIFIED:20200126T223727Z
UID:2190-1581013800-1581021000@www.buildstudios.co.uk
SUMMARY:Built By Us - SHAPE networking launch
DESCRIPTION:The SHAPE Programme has been developed to provide support at those important first steps in setting up a business with focus on people who are underrepresented in the construction sector.
URL:https://www.buildstudios.co.uk/event/built-by-us-2/
LOCATION:Build Studios\, 203 Westminster Bridge Road\,\, London\, SE1 7FR\, United Kingdom
CATEGORIES:Members Event
ORGANIZER;CN="Built by Us":MAILTO:danna@builtbyus.org.uk
END:VEVENT
BEGIN:VEVENT
DTSTART;TZID=Europe/London:20200205T183000
DTEND;TZID=Europe/London:20200205T203000
DTSTAMP:20260421T125938
CREATED:20200126T221348Z
LAST-MODIFIED:20200126T221348Z
UID:1515-1580927400-1580934600@www.buildstudios.co.uk
SUMMARY:Business Academy - Speak with Impact
DESCRIPTION:  \nDo you struggle to speak with confidence at events? Do you want to make a greater impact when you’re pitching for new work? According to a Gallup poll\, 40% of us have a fear of public speaking. The ability to speak with impact is a key requirement for becoming a well-rounded communicator\, resulting in improved influence and credibility for the individual. \n\nThis workshop will help you learn how to present with clarity and conviction with:\nTips on how to structure excellent presentations to be more audience-focussed\nThe opportunity to prepare and practise presenting in front of an audience\nFeedback on how you to improve your presentation style and content\n\nThis is a practical workshop suitable and recommended for senior staff\, directors and practice owners who play a significant role in representing the practice externally.
URL:https://www.buildstudios.co.uk/event/business-academy-speak-with-impact/
LOCATION:Build Studios\, 203 Westminster Bridge Road\,\, London\, SE1 7FR\, United Kingdom
CATEGORIES:Members Event
END:VEVENT
BEGIN:VEVENT
DTSTART;TZID=Europe/London:20200205T183000
DTEND;TZID=Europe/London:20200205T203000
DTSTAMP:20260421T125938
CREATED:20200126T221348Z
LAST-MODIFIED:20200126T221348Z
UID:2188-1580927400-1580934600@www.buildstudios.co.uk
SUMMARY:Business Academy - Speak with Impact
DESCRIPTION:  \nDo you struggle to speak with confidence at events? Do you want to make a greater impact when you’re pitching for new work? According to a Gallup poll\, 40% of us have a fear of public speaking. The ability to speak with impact is a key requirement for becoming a well-rounded communicator\, resulting in improved influence and credibility for the individual. \n\nThis workshop will help you learn how to present with clarity and conviction with:\nTips on how to structure excellent presentations to be more audience-focussed\nThe opportunity to prepare and practise presenting in front of an audience\nFeedback on how you to improve your presentation style and content\n\nThis is a practical workshop suitable and recommended for senior staff\, directors and practice owners who play a significant role in representing the practice externally.
URL:https://www.buildstudios.co.uk/event/business-academy-speak-with-impact-2/
LOCATION:Build Studios\, 203 Westminster Bridge Road\,\, London\, SE1 7FR\, United Kingdom
CATEGORIES:Members Event
END:VEVENT
END:VCALENDAR